BEGIN:VCALENDAR
VERSION:2.0
PRODID:-//OBALAplus//NONSGML v1.0//EN
BEGIN:VEVENT
UID:155716@obalaplus.si
DTSTAMP:20260419T234340Z
DTSTART:20250404T093000
DTEND:20250406T190000
SUMMARY:Primorski sejem in Dnevi kmetijstva
DESCRIPTION:Pomemben obrtno-podjetniški in kmetijski sejem za našo regijo. Sejem nudi širok spekter izdelkov in storitev...
LOCATION:Primorski sejem in Dnevi kmetijstva
END:VEVENT
END:VCALENDAR
