BEGIN:VCALENDAR
VERSION:2.0
PRODID:-//OBALAplus//NONSGML v1.0//EN
BEGIN:VEVENT
UID:162455@obalaplus.si
DTSTAMP:20260421T171940Z
DTSTART:20250609T200000
DTEND:20250610
SUMMARY:VEČER ČRNEGA HUMORJA V HANGARJU
DESCRIPTION:
LOCATION:hangar Bar, Tomažičeva ulica 10a, 6310 Izola
END:VEVENT
END:VCALENDAR
