BEGIN:VCALENDAR
VERSION:2.0
PRODID:-//OBALAplus//NONSGML v1.0//EN
BEGIN:VEVENT
UID:165205@obalaplus.si
DTSTAMP:20260421T183510Z
DTSTART:20250604T170000
DTEND:20250608
SUMMARY:KINO OTOK
DESCRIPTION:21. KINO OTOK, 4.-8. jun
LOCATION:IZOLA
END:VEVENT
END:VCALENDAR
