BEGIN:VCALENDAR
VERSION:2.0
PRODID:-//OBALAplus//NONSGML v1.0//EN
BEGIN:VEVENT
UID:181033@obalaplus.si
DTSTAMP:20260420T033749Z
DTSTART:20251012T090000
DTEND:20251013
SUMMARY:BARCOLANA 2025
DESCRIPTION:
LOCATION:TRIESTE
END:VEVENT
END:VCALENDAR
