BEGIN:VCALENDAR
VERSION:2.0
PRODID:-//OBALAplus//NONSGML v1.0//EN
BEGIN:VEVENT
UID:185051@obalaplus.si
DTSTAMP:20260420T155347Z
DTSTART:20251116T090000
DTEND:20251117
SUMMARY:PRAZNIK KAKIJEV III
DESCRIPTION:
LOCATION:STRUNJAN
END:VEVENT
END:VCALENDAR
