BEGIN:VCALENDAR
VERSION:2.0
PRODID:-//OBALAplus//NONSGML v1.0//EN
BEGIN:VEVENT
UID:187748@obalaplus.si
DTSTAMP:20260424T103402Z
DTSTART:20251231T220000
DTEND:20251201T000000
SUMMARY:Fantazima: Silvestrovanje S SKUPINO ŠANK ROCK
DESCRIPTION:Zadnja noč v letu s skupino Šank Rock
LOCATION:Taverna - Pristaniška ulica 1, 6000 Koper
END:VEVENT
END:VCALENDAR
