BEGIN:VCALENDAR
VERSION:2.0
PRODID:-//OBALAplus//NONSGML v1.0//EN
BEGIN:VEVENT
UID:191913@obalaplus.si
DTSTAMP:20260423T094626Z
DTSTART:20260121T200000
DTEND:20260122
SUMMARY:Predstava: Kje je primadona?
DESCRIPTION:
LOCATION:Verdijeva ulica, Koper; Gledališče Koper
END:VEVENT
END:VCALENDAR
