BEGIN:VCALENDAR
VERSION:2.0
PRODID:-//OBALAplus//NONSGML v1.0//EN
BEGIN:VEVENT
UID:195683@obalaplus.si
DTSTAMP:20260421T101906Z
DTSTART:20260227T210000
DTEND:20260228
SUMMARY:Rifugio Bar: MIRO TODOSOVSKI
DESCRIPTION:
LOCATION:Ulica 15. maja 12e, Koper, Slovenia (RIFUGIO BAR)
END:VEVENT
END:VCALENDAR
