BEGIN:VCALENDAR
VERSION:2.0
PRODID:-//OBALAplus//NONSGML v1.0//EN
BEGIN:VEVENT
UID:202351@obalaplus.si
DTSTAMP:20260424T032822Z
DTSTART:20260425T160000
DTEND:20260426T220000
SUMMARY:Četrtna fešta
DESCRIPTION:
LOCATION:Gramšijev trg, Koper
END:VEVENT
END:VCALENDAR
