BEGIN:VCALENDAR
VERSION:2.0
PRODID:-//OBALAplus//NONSGML v1.0//EN
BEGIN:VEVENT
UID:202356@obalaplus.si
DTSTAMP:20260420T171916Z
DTSTART:20260424T201500
DTEND:20260425
SUMMARY:Kino Odeon: Michael
DESCRIPTION:
LOCATION:Ulica prekomorskih brigad 4, 6310 Izola, Slovenija
END:VEVENT
END:VCALENDAR
