BEGIN:VCALENDAR
VERSION:2.0
PRODID:-//OBALAplus//NONSGML v1.0//EN
BEGIN:VEVENT
UID:202360@obalaplus.si
DTSTAMP:20260420T171818Z
DTSTART:20260424
DTEND:20260425
SUMMARY:Orange Wine Festival
DESCRIPTION:
LOCATION:Manzijolijev trg
END:VEVENT
END:VCALENDAR
