BEGIN:VCALENDAR
VERSION:2.0
PRODID:-//OBALAplus//NONSGML v1.0//EN
BEGIN:VEVENT
UID:202361@obalaplus.si
DTSTAMP:20260420T171226Z
DTSTART:20260501
DTEND:20260502
SUMMARY:1. maj v Izoli
DESCRIPTION:
LOCATION:Lonka
END:VEVENT
END:VCALENDAR
