BEGIN:VCALENDAR
VERSION:2.0
PRODID:-//OBALAplus//NONSGML v1.0//EN
BEGIN:VEVENT
UID:202363@obalaplus.si
DTSTAMP:20260420T171728Z
DTSTART:20260523T110000
DTEND:20260524
SUMMARY:Čiliada
DESCRIPTION:
LOCATION:Manzijolijev trg
END:VEVENT
END:VCALENDAR
