BEGIN:VCALENDAR
VERSION:2.0
PRODID:-//OBALAplus//NONSGML v1.0//EN
BEGIN:VEVENT
UID:202366@obalaplus.si
DTSTAMP:20260420T172033Z
DTSTART:20260424
DTEND:20260425
SUMMARY:22. SOLINARSKA PRAZNIK OB PRAZNIKU SV. JURIJA 2026
DESCRIPTION:
LOCATION:krajinski park Sečoveljske soline
END:VEVENT
END:VCALENDAR
