BEGIN:VCALENDAR
VERSION:2.0
PRODID:-//OBALAplus//NONSGML v1.0//EN
BEGIN:VEVENT
UID:202856@obalaplus.si
DTSTAMP:20260424T032934Z
DTSTART:20260424T190000
DTEND:20260425
SUMMARY:KONCERT: Max Pezzali
DESCRIPTION:
LOCATION:ARENA BONIFIKA
END:VEVENT
END:VCALENDAR
