BEGIN:VCALENDAR
VERSION:2.0
PRODID:-//OBALAplus//NONSGML v1.0//EN
BEGIN:VEVENT
UID:202863@obalaplus.si
DTSTAMP:20260424T032537Z
DTSTART:20260425T120000
DTEND:20260426
SUMMARY:OPEN BIKE SEASON &#8211; SNACK BAR 1964
DESCRIPTION:
LOCATION:Snack Bar, Žusterna
END:VEVENT
END:VCALENDAR
