BEGIN:VCALENDAR
VERSION:2.0
PRODID:-//OBALAplus//NONSGML v1.0//EN
BEGIN:VEVENT
UID:202869@obalaplus.si
DTSTAMP:20260424T043144Z
DTSTART:20260425T190000
DTEND:20260426
SUMMARY:KONCERT: Max Pezzali
DESCRIPTION:
LOCATION:Arena bonifika
END:VEVENT
END:VCALENDAR
